BEGIN:VCALENDAR
VERSION:2.0
PRODID:-//Institute of the Arts and Sciences - ECPv6.15.20//NONSGML v1.0//EN
CALSCALE:GREGORIAN
METHOD:PUBLISH
X-ORIGINAL-URL:https://ias.ucsc.edu
X-WR-CALDESC:Events for Institute of the Arts and Sciences
REFRESH-INTERVAL;VALUE=DURATION:PT1H
X-Robots-Tag:noindex
X-PUBLISHED-TTL:PT1H
BEGIN:VTIMEZONE
TZID:America/Los_Angeles
BEGIN:DAYLIGHT
TZOFFSETFROM:-0800
TZOFFSETTO:-0700
TZNAME:PDT
DTSTART:20250309T100000
END:DAYLIGHT
BEGIN:STANDARD
TZOFFSETFROM:-0700
TZOFFSETTO:-0800
TZNAME:PST
DTSTART:20251102T090000
END:STANDARD
BEGIN:DAYLIGHT
TZOFFSETFROM:-0800
TZOFFSETTO:-0700
TZNAME:PDT
DTSTART:20260308T100000
END:DAYLIGHT
BEGIN:STANDARD
TZOFFSETFROM:-0700
TZOFFSETTO:-0800
TZNAME:PST
DTSTART:20261101T090000
END:STANDARD
BEGIN:DAYLIGHT
TZOFFSETFROM:-0800
TZOFFSETTO:-0700
TZNAME:PDT
DTSTART:20270314T100000
END:DAYLIGHT
BEGIN:STANDARD
TZOFFSETFROM:-0700
TZOFFSETTO:-0800
TZNAME:PST
DTSTART:20271107T090000
END:STANDARD
END:VTIMEZONE
BEGIN:VEVENT
DTSTART;TZID=America/Los_Angeles:20260410T170000
DTEND;TZID=America/Los_Angeles:20260607T170000
DTSTAMP:20260419T185256
CREATED:20260324T192312Z
LAST-MODIFIED:20260408T194141Z
UID:10928-1775840400-1780851600@ias.ucsc.edu
SUMMARY:Visualizing Abolition Screening Series: Beyond Access
DESCRIPTION:Curated by Visualizing Abolition Visiting Faculty Pooja Rangan \n\n\n\nRun time: 49 minutes \n\n\n\nPrisons deny and censor the access of those trapped inside them—to information\, to intimacy\, to community\, to meaningful work\, to nourishment of all kinds\, and perhaps most cruelly\, to care. This program assembles a series of films\, including works by filmmakers incarcerated in California as well as others without that lived experience. Together\, these works confront the debilitating impacts of these restrictions and reveal how the disabling logic of the prison is extended to other institutional spaces (the hospital\, the university)\, turning access into a scarce commodity by enclosing what should be held in common. Questioning the carceral and state-sponsored productions of disability and accessibility\, the short films together reveal the courage of people working despite limitations to produce collective access for one another\, described simply and beautifully by disability justice activist Leah-Lakshmi Piepzna Samarasinha as “revolutionary love without charity.”  \n\n\n\nThanh TranDying in Prison\, 2022HD Video (color\, sound)\, 3 minutesCourtesy of the artist \n\n\n\nCarolyn LazardPre-Existing Condition\, 2019HD video (color\, sound)\, 6 minutesCourtesy of the artist and Trautwein Herleth3 \n\n\n\nAnthony AlejandrezAnother Rainy Day\, 2023Phone video (color\, sound)\, 3 minutesCourtesy of the artist \n\n\n\nJordan LordAfter…After… (Access)\, 2018HD Video (color\, sound)\, 16 minutesCourtesy of the artist \n\n\n\nRahsaan “New York” ThomasFriendly Signs\, 2023Video (color\, sound) 21 minutesCourtesy of Tommy Wickerd\, Empowerment Ave & System Impact Media \n\n\n\nImage credit: Carolyn Lazard\, Pre-Existing Condition (still). ID: [A scanned document of a table of information pertaining to medical experiments conducted in a prison in 1963. The scan is an inverted image: white\, type-written text on a black background speckled with white dots and a white margin on the left side of the frame. The information presented includes the dates of these experiments\, the University of Pennsylvania doctors who facilitated them\, the number of inmates who participated in the experiments\, and the amount that inmates were paid\, ranging from one to fifteen dollars per study. Brief descriptions of each test is listed\, including “To obtain data on tolerance of Myagen\,” “To determine effectiveness of drug\, Grisactin” and “To determine toxicity of drug\, Wy-713”. At the bottom of the frame is a yellow subtitle\, “they classify people.”]
URL:https://ias.ucsc.edu/event/beyond-access/
LOCATION:Institute of the Arts and Sciences\, 100 Panetta Avenue\, Santa Cruz\, California\, 95060\, United States
CATEGORIES:Screenings,Visualizing Abolition
ATTACH;FMTTYPE=image/jpeg:https://ias.ucsc.edu/wp-content/uploads/2026/03/017–CLS_Pre-ExistingCondition_2019_02-e1774380409661.jpg
END:VEVENT
END:VCALENDAR